BEGIN:VCALENDAR
VERSION:2.0
PRODID:-//Park Ave Kitchen by David Burke - ECPv6.15.18//NONSGML v1.0//EN
CALSCALE:GREGORIAN
METHOD:PUBLISH
X-WR-CALNAME:Park Ave Kitchen by David Burke
X-ORIGINAL-URL:https://parkavekitchenbydb.com
X-WR-CALDESC:Events for Park Ave Kitchen by David Burke
REFRESH-INTERVAL;VALUE=DURATION:PT1H
X-Robots-Tag:noindex
X-PUBLISHED-TTL:PT1H
BEGIN:VTIMEZONE
TZID:America/New_York
BEGIN:DAYLIGHT
TZOFFSETFROM:-0500
TZOFFSETTO:-0400
TZNAME:EDT
DTSTART:20230312T070000
END:DAYLIGHT
BEGIN:STANDARD
TZOFFSETFROM:-0400
TZOFFSETTO:-0500
TZNAME:EST
DTSTART:20231105T060000
END:STANDARD
BEGIN:DAYLIGHT
TZOFFSETFROM:-0500
TZOFFSETTO:-0400
TZNAME:EDT
DTSTART:20240310T070000
END:DAYLIGHT
BEGIN:STANDARD
TZOFFSETFROM:-0400
TZOFFSETTO:-0500
TZNAME:EST
DTSTART:20241103T060000
END:STANDARD
BEGIN:DAYLIGHT
TZOFFSETFROM:-0500
TZOFFSETTO:-0400
TZNAME:EDT
DTSTART:20250309T070000
END:DAYLIGHT
BEGIN:STANDARD
TZOFFSETFROM:-0400
TZOFFSETTO:-0500
TZNAME:EST
DTSTART:20251102T060000
END:STANDARD
END:VTIMEZONE
BEGIN:VEVENT
DTSTART;TZID=America/New_York:20240918T190000
DTEND;TZID=America/New_York:20240918T213000
DTSTAMP:20260422T103153
CREATED:20240820T165035Z
LAST-MODIFIED:20240917T165806Z
UID:1824-1726686000-1726695000@parkavekitchenbydb.com
SUMMARY:9/18 Charles Krug Wine Dinner with Peter Mondavi Jr. & Chef David Burke
DESCRIPTION:5-Course Winemaker Dinner paired with Charles Krug\, Napa Valley Wines\nWednesday\, September 18th\n$199 (plus tax and gratuity) \nPeter Mondavi\, Jr. the third generation co-proprietor of Charles Krug Winery\, will collaborate with Chef David Burke and Park Ave Kitchen to present a spectacular Wine Dinner featuring the extraordinary production of Napa Valley’s oldest winery estate. Chef Burke and Mr. Mondavi will talk food and wine in general\, while introducing \, each course and viniculture with their unparalleled\, often entertaining\, insight.  There will also be a brief\, fun Q&A Session. Don’t miss this very special evening with two giants in their respective industries.  Tickets are limited to assure this will be an intimate affair. \n\nFirst Course\n“Chef’s Palate White Gazpacho” :: 2023 Sauvignon Blanc\nSanta Barbara spotted prawn\, grapes\, toasted almonds\, San Francisco sourdough \nSecond Course\n“Just for the Halibut” :: 2023 Chardonnay\nAlaskan halibut\, black plums\, black garlic\, ube pureé \nThird Course\n“Duck\, Duck\, Goose” :: 2022 Merlot\nhanging roasted duck\, cold-smoked duck (torched tableside)\, albufera sauce w/green-tea & cherry duck jus\, asparagus \nFourth Course\n“Lamb Wellington” :: 2019 Family Reserve “Generations” Cabernet Sauvignon\ngrape leaf\, fresh pastry\, cabernet jus\, roasted vegetable\, foraged mushroom mousse \nDessert\n“Tin Can” Cakes + Cake Pop Trees :: Lot XXI Zinfandel Dessert Wine\nfresh cream whip\, toffee pearls\, passion fruit caramel + bubble gum whip \n\nPeter Mondavi Jr.\n\n\nPeter Mondavi Jr. is the second son of Peter and Blanche Mondavi and grandson of Cesare and Rosa Mondavi\, the Napa Valley pioneers who purchased the historic Charles Krug Winery in 1943. \n\n\nPeter\, born in 1958\, grew up on the winery property. At a very young age\, he and Marc sanded fermenting tanks\, unpacked glasses\, worked in the winery’s laboratory and cellar\, and drove tractors through the vineyards. \n\n\nFollowing in his father’s footsteps\, he attended Stanford University\, earning a BS & MS in the engineering field and an MBA a decade later. He keeps his academic ties alive as a guest lecturer at Stanford’s Graduate School of Business\, Law School and School of Engineering as well as the UC Davis School of Law. \n\n\nHe lives in Napa Valley with his wife Katie Williams-Mondavi. Their son\, Lucio\, a Stanford graduate\, works in the automotive engineering sector in Italy. Daughter Lia graduated from Harvard and lives in London\, working for a food tech start-up.
URL:https://parkavekitchenbydb.com/event/9-18-charles-krug-wine-dinner-with-peter-mondavi/
LOCATION:Park Ave Kitchen by David Burke\, 514 Lexington Avenue\, New York\, 10017\, United States
CATEGORIES:wine Dinner
ATTACH;FMTTYPE=image/jpeg:https://parkavekitchenbydb.com/wp-content/uploads/2024/08/9-18-24-charles-krug-dinner-1080-v3.jpg
END:VEVENT
END:VCALENDAR