BEGIN:VCALENDAR
VERSION:2.0
PRODID:-//Park Ave Kitchen by David Burke - ECPv6.15.18//NONSGML v1.0//EN
CALSCALE:GREGORIAN
METHOD:PUBLISH
X-WR-CALNAME:Park Ave Kitchen by David Burke
X-ORIGINAL-URL:https://parkavekitchenbydb.com
X-WR-CALDESC:Events for Park Ave Kitchen by David Burke
REFRESH-INTERVAL;VALUE=DURATION:PT1H
X-Robots-Tag:noindex
X-PUBLISHED-TTL:PT1H
BEGIN:VTIMEZONE
TZID:America/New_York
BEGIN:DAYLIGHT
TZOFFSETFROM:-0500
TZOFFSETTO:-0400
TZNAME:EDT
DTSTART:20230312T070000
END:DAYLIGHT
BEGIN:STANDARD
TZOFFSETFROM:-0400
TZOFFSETTO:-0500
TZNAME:EST
DTSTART:20231105T060000
END:STANDARD
BEGIN:DAYLIGHT
TZOFFSETFROM:-0500
TZOFFSETTO:-0400
TZNAME:EDT
DTSTART:20240310T070000
END:DAYLIGHT
BEGIN:STANDARD
TZOFFSETFROM:-0400
TZOFFSETTO:-0500
TZNAME:EST
DTSTART:20241103T060000
END:STANDARD
BEGIN:DAYLIGHT
TZOFFSETFROM:-0500
TZOFFSETTO:-0400
TZNAME:EDT
DTSTART:20250309T070000
END:DAYLIGHT
BEGIN:STANDARD
TZOFFSETFROM:-0400
TZOFFSETTO:-0500
TZNAME:EST
DTSTART:20251102T060000
END:STANDARD
END:VTIMEZONE
BEGIN:VEVENT
DTSTART;TZID=America/New_York:20240927T190000
DTEND;TZID=America/New_York:20240927T213000
DTSTAMP:20260422T102837
CREATED:20240805T220805Z
LAST-MODIFIED:20240918T035637Z
UID:1776-1727463600-1727472600@parkavekitchenbydb.com
SUMMARY:9/27 Long Meadow Ranch Winemaker Dinner
DESCRIPTION:Park Ave Kitchen by David Burke + Long Meadow Ranch Winemaker Dinner\n5-Course Dinner paired with Long Meadow Ranch Wines\n$145 (plus tax and gratuity) \nNapa Valley’s Hall family operated Long Meadow Ranch is committed to organic and sustainable viticulture practices to produce elegant\, balanced wines that express varietal authenticity and the terroir of the Long Meadow wine growing sites. All Long Meadow Ranch wines are Organic\, Single Estate/Appellation & Single Varietal. \nWinemaker Tim Tedino will be coming in from NAPA to talk wine\, dine with us and a brief\, fun Q&A Session \nFirst Course\nWest Coast Oysters\nrhubarb mignonette\, dungeness crab & finger limes\n+ Long Meadow Ranch Rutherford Sauvignon Blanc 2023 + \nSecond Course\nFresh Chitarra Cacio e Pepe\nshaved summer truffles\n+ Long Meadow Ranch Anderson Valley Chardonnay 2018 + \nThird Course\nCold-smoked Duck Breast Sourdough Panzanella\nasparagus\, black cherries & charred red onion\n+ Long Meadow Ranch Anderson Valley Pinot Noir 2019 + \nFourth Course\n36-hr Braised Short Rib\nbuttermilk whipped potatoes\, roasted exotic mushrooms & charred brussel leaves\n+ Long Meadow Ranch Rutherford Cabernet Sauvignon 2017 + \n\n\nDessert\nChocolate Olive Oil Cake\nchardonnay & cabernet grape-infused mascarpone\n+ Long Meadow Ranch E.J. Church Cabernet Sauvignon Reserve 2017 + 
URL:https://parkavekitchenbydb.com/event/9-27-long-meadow-ranch-winemaker-dinner/
LOCATION:Park Ave Kitchen by David Burke\, 514 Lexington Avenue\, New York\, 10017\, United States
CATEGORIES:wine Dinner
ATTACH;FMTTYPE=image/jpeg:https://parkavekitchenbydb.com/wp-content/uploads/2024/08/8-29-24winemaker-1080-x-1-fri.jpg
END:VEVENT
END:VCALENDAR