BEGIN:VCALENDAR
VERSION:2.0
PRODID:-//Park Ave Kitchen by David Burke - ECPv6.15.18//NONSGML v1.0//EN
CALSCALE:GREGORIAN
METHOD:PUBLISH
X-ORIGINAL-URL:https://parkavekitchenbydb.com
X-WR-CALDESC:Events for Park Ave Kitchen by David Burke
REFRESH-INTERVAL;VALUE=DURATION:PT1H
X-Robots-Tag:noindex
X-PUBLISHED-TTL:PT1H
BEGIN:VTIMEZONE
TZID:America/New_York
BEGIN:DAYLIGHT
TZOFFSETFROM:-0500
TZOFFSETTO:-0400
TZNAME:EDT
DTSTART:20240310T070000
END:DAYLIGHT
BEGIN:STANDARD
TZOFFSETFROM:-0400
TZOFFSETTO:-0500
TZNAME:EST
DTSTART:20241103T060000
END:STANDARD
BEGIN:DAYLIGHT
TZOFFSETFROM:-0500
TZOFFSETTO:-0400
TZNAME:EDT
DTSTART:20250309T070000
END:DAYLIGHT
BEGIN:STANDARD
TZOFFSETFROM:-0400
TZOFFSETTO:-0500
TZNAME:EST
DTSTART:20251102T060000
END:STANDARD
BEGIN:DAYLIGHT
TZOFFSETFROM:-0500
TZOFFSETTO:-0400
TZNAME:EDT
DTSTART:20260308T070000
END:DAYLIGHT
BEGIN:STANDARD
TZOFFSETFROM:-0400
TZOFFSETTO:-0500
TZNAME:EST
DTSTART:20261101T060000
END:STANDARD
END:VTIMEZONE
BEGIN:VEVENT
DTSTART;TZID=America/New_York:20250819T150000
DTEND;TZID=America/New_York:20250819T170000
DTSTAMP:20260423T025412
CREATED:20250807T161523Z
LAST-MODIFIED:20250808T152635Z
UID:2798-1755615600-1755622800@parkavekitchenbydb.com
SUMMARY:8/19 Tipsy Scoop Boozy Ice Cream Pop-Up
DESCRIPTION:Tipsy Scoop™ blends the magic of an artisanal\, hand-crafted ice cream with the mastery of a perfectly mixed cocktail! \nMelissa Tavvs\, Founder\, CEO & 6th Generation Ice Cream Maker\, will be on-site! \nThe Tipsy Scoop Pop-Up at Park Ave Kitchen by David Burke will feature 3 flavors \n\nVanilla Bean Bourbon\nDark Chocolate Whiskey Salted Caramel\nSpiked Mint Chip\n\n$5 per Scoop | ages 21+ \nABOUT TIPSY SCOOP\nnew take by a 6th generation ice cream maker \nRICH HISTORY \nFamily Tradition\nMy great\, great\, great grandfather\, Achille\, moved from his small mountaintop town of Picinisco\, Italy to Glasgow\, Scotland. He made ice cream at home and sold it from a pushcart as he walked the city streets. Eventually he opened his own ice cream shop and brought his sons into the business. The family business continued with my great\, great grandfather\, Giovanni\, who opened several of his own shops around Glasgow in the 1900s. My great grandfather\, Federico\, continued the family ice cream tradition and opened shops throughout Scotland and England and eventually became the President of the Ice Cream Alliance of Great Britain. \nAN NYC ORIGINAL\nWith A Modern Twist\nFollowing in the ice cream tradition\, I began to experiment with putting a modern boozy twist on ice cream. I wanted to combine the best of both worlds and infuse traditional ice cream ﬂavors with diﬀerent liquors. I ﬁnally perfected the recipes and came up with creamy\, tipsy and delicious treats! \nAnd now\, in the family tradition\, Tipsy Scoop™!
URL:https://parkavekitchenbydb.com/event/8-19-tipsy-scoop-boozy-ice-cream-pop-up/
LOCATION:Park Ave Kitchen by David Burke\, 514 Lexington Avenue\, New York\, 10017\, United States
CATEGORIES:PopUp
ATTACH;FMTTYPE=image/jpeg:https://parkavekitchenbydb.com/wp-content/uploads/2025/08/TIPSY-SCOOP-POP-UP2.jpg
END:VEVENT
END:VCALENDAR