BEGIN:VCALENDAR
VERSION:2.0
PRODID:-//Park Ave Kitchen by David Burke - ECPv6.15.18//NONSGML v1.0//EN
CALSCALE:GREGORIAN
METHOD:PUBLISH
X-WR-CALNAME:Park Ave Kitchen by David Burke
X-ORIGINAL-URL:https://parkavekitchenbydb.com
X-WR-CALDESC:Events for Park Ave Kitchen by David Burke
REFRESH-INTERVAL;VALUE=DURATION:PT1H
X-Robots-Tag:noindex
X-PUBLISHED-TTL:PT1H
BEGIN:VTIMEZONE
TZID:America/New_York
BEGIN:DAYLIGHT
TZOFFSETFROM:-0500
TZOFFSETTO:-0400
TZNAME:EDT
DTSTART:20240310T070000
END:DAYLIGHT
BEGIN:STANDARD
TZOFFSETFROM:-0400
TZOFFSETTO:-0500
TZNAME:EST
DTSTART:20241103T060000
END:STANDARD
BEGIN:DAYLIGHT
TZOFFSETFROM:-0500
TZOFFSETTO:-0400
TZNAME:EDT
DTSTART:20250309T070000
END:DAYLIGHT
BEGIN:STANDARD
TZOFFSETFROM:-0400
TZOFFSETTO:-0500
TZNAME:EST
DTSTART:20251102T060000
END:STANDARD
BEGIN:DAYLIGHT
TZOFFSETFROM:-0500
TZOFFSETTO:-0400
TZNAME:EDT
DTSTART:20260308T070000
END:DAYLIGHT
BEGIN:STANDARD
TZOFFSETFROM:-0400
TZOFFSETTO:-0500
TZNAME:EST
DTSTART:20261101T060000
END:STANDARD
END:VTIMEZONE
BEGIN:VEVENT
DTSTART;TZID=America/New_York:20250825T080000
DTEND;TZID=America/New_York:20250907T200000
DTSTAMP:20260423T005445
CREATED:20250828T133728Z
LAST-MODIFIED:20250828T144951Z
UID:2897-1756108800-1757275200@parkavekitchenbydb.com
SUMMARY:US Open Specials
DESCRIPTION:Park Ave Kitchen by David Burke is celebrating the US Open\, NYC’s most exciting sporting event\, with tennis themed food and drink specials \nTennis Racquet Pasta Salad\navailable at the PAK Cafe\, as grab and go or grab and stay $12  per pint \n15-Love Cocktail \nall the refreshing flavor of the Honey Deuce at just $15  at PAK \nMahi Mahi Fish Tacos\n$22 dinner and lunch menus \nRacquet pasta primavera\nracquet pasta\, pesto cream\, perlite mozzarella\, zucchini\, tomatoes\, peas $18 \nJamon Beurre\nFrench bistro ham\, butter\, arugula\, baguette roll. $14 \n\n			\n				\n			\n			\n				\n			\n			\n				\n			\n			\n				\n			\n		\n\n  \n  \n 
URL:https://parkavekitchenbydb.com/event/us-open-specials/
LOCATION:Park Ave Kitchen by David Burke\, 514 Lexington Avenue\, New York\, 10017\, United States
CATEGORIES:special
ATTACH;FMTTYPE=image/jpeg:https://parkavekitchenbydb.com/wp-content/uploads/2025/08/pak-raquet-pasta.jpg
END:VEVENT
END:VCALENDAR