BEGIN:VCALENDAR
VERSION:2.0
PRODID:-//Park Ave Kitchen by David Burke - ECPv6.15.18//NONSGML v1.0//EN
CALSCALE:GREGORIAN
METHOD:PUBLISH
X-ORIGINAL-URL:https://parkavekitchenbydb.com
X-WR-CALDESC:Events for Park Ave Kitchen by David Burke
REFRESH-INTERVAL;VALUE=DURATION:PT1H
X-Robots-Tag:noindex
X-PUBLISHED-TTL:PT1H
BEGIN:VTIMEZONE
TZID:America/New_York
BEGIN:DAYLIGHT
TZOFFSETFROM:-0500
TZOFFSETTO:-0400
TZNAME:EDT
DTSTART:20240310T070000
END:DAYLIGHT
BEGIN:STANDARD
TZOFFSETFROM:-0400
TZOFFSETTO:-0500
TZNAME:EST
DTSTART:20241103T060000
END:STANDARD
BEGIN:DAYLIGHT
TZOFFSETFROM:-0500
TZOFFSETTO:-0400
TZNAME:EDT
DTSTART:20250309T070000
END:DAYLIGHT
BEGIN:STANDARD
TZOFFSETFROM:-0400
TZOFFSETTO:-0500
TZNAME:EST
DTSTART:20251102T060000
END:STANDARD
BEGIN:DAYLIGHT
TZOFFSETFROM:-0500
TZOFFSETTO:-0400
TZNAME:EDT
DTSTART:20260308T070000
END:DAYLIGHT
BEGIN:STANDARD
TZOFFSETFROM:-0400
TZOFFSETTO:-0500
TZNAME:EST
DTSTART:20261101T060000
END:STANDARD
END:VTIMEZONE
BEGIN:VEVENT
DTSTART;TZID=America/New_York:20251015T110000
DTEND;TZID=America/New_York:20251015T133000
DTSTAMP:20260422T231832
CREATED:20251007T002148Z
LAST-MODIFIED:20251007T002148Z
UID:3032-1760526000-1760535000@parkavekitchenbydb.com
SUMMARY:10/15 Taco Pop-up
DESCRIPTION:$12 Taco Agua Fresca Pop-Up\n3 tacos (1 chicken tinga\, 1 Birria beef\, 1 veggie – butternut squash & mushroom) per plate\n+ a glass of Agua Fresca (Orange or Jamaica flavored) \nTaco topping table with diced onions\, cilantro\, radishes\, hot sauce\, salsa\, etc for guests to “create their own” amazing tacos \n8oz house-made guac and chips bagged up TG for $10.  \nAdditional beverages for sale include bottled Topo Chico waters.
URL:https://parkavekitchenbydb.com/event/10-15-taco-pop-up/
LOCATION:Park Ave Kitchen by David Burke\, 514 Lexington Avenue\, New York\, 10017\, United States
END:VEVENT
END:VCALENDAR