BEGIN:VCALENDAR
VERSION:2.0
PRODID:-//Park Ave Kitchen by David Burke - ECPv6.15.18//NONSGML v1.0//EN
CALSCALE:GREGORIAN
METHOD:PUBLISH
X-ORIGINAL-URL:https://parkavekitchenbydb.com
X-WR-CALDESC:Events for Park Ave Kitchen by David Burke
REFRESH-INTERVAL;VALUE=DURATION:PT1H
X-Robots-Tag:noindex
X-PUBLISHED-TTL:PT1H
BEGIN:VTIMEZONE
TZID:America/New_York
BEGIN:DAYLIGHT
TZOFFSETFROM:-0500
TZOFFSETTO:-0400
TZNAME:EDT
DTSTART:20240310T070000
END:DAYLIGHT
BEGIN:STANDARD
TZOFFSETFROM:-0400
TZOFFSETTO:-0500
TZNAME:EST
DTSTART:20241103T060000
END:STANDARD
BEGIN:DAYLIGHT
TZOFFSETFROM:-0500
TZOFFSETTO:-0400
TZNAME:EDT
DTSTART:20250309T070000
END:DAYLIGHT
BEGIN:STANDARD
TZOFFSETFROM:-0400
TZOFFSETTO:-0500
TZNAME:EST
DTSTART:20251102T060000
END:STANDARD
BEGIN:DAYLIGHT
TZOFFSETFROM:-0500
TZOFFSETTO:-0400
TZNAME:EDT
DTSTART:20260308T070000
END:DAYLIGHT
BEGIN:STANDARD
TZOFFSETFROM:-0400
TZOFFSETTO:-0500
TZNAME:EST
DTSTART:20261101T060000
END:STANDARD
BEGIN:DAYLIGHT
TZOFFSETFROM:-0500
TZOFFSETTO:-0400
TZNAME:EDT
DTSTART:20270314T070000
END:DAYLIGHT
BEGIN:STANDARD
TZOFFSETFROM:-0400
TZOFFSETTO:-0500
TZNAME:EST
DTSTART:20271107T060000
END:STANDARD
END:VTIMEZONE
BEGIN:VEVENT
DTSTART;TZID=America/New_York:20251206T130000
DTEND;TZID=America/New_York:20251206T150000
DTSTAMP:20260423T030812
CREATED:20251103T184426Z
LAST-MODIFIED:20251103T205256Z
UID:3320-1765026000-1765033200@parkavekitchenbydb.com
SUMMARY:12/6 BONSAI BAR in The Café at Park Ave Kitchen
DESCRIPTION:LEARN TO BONSAI!\nand have a brunchy Saturday afternoon of fun and drinks in the Café\nPURCHASE TICKETS HERE \nDec 6 – DWARF JADE\nABOUT THE EVENT\n\nBeginner workshops are perfect for you to grab your friends\, grab a drink and come make tiny trees! We’re bringing the awesome art of bonsai out of the hedged in gardens and into the streets! Or at least into your favorite bars/breweries/pubs. Bonsai Bar is a night of fun you don’t want to miss. Learn the fundamental skills and techniques behind the art of bonsai while enjoying a night out with friends! Our teachers will introduce core concepts and guide your experience as you pot\, prune\, and design your very own bonsai tree!\n\nNOTICE\nPlease arrive at least 15 MINUTES BEFORE your event to ensure your group can sit together\, ORDER FOOD AND DRINK\, and pick your FAVORITE TREE  \n\nNATURE IS HEALING. NATURE IS POWERFUL.\nNATURE IS… TINY TREES IN A BAR? \nBonsai Bar was founded with a simple yet powerful vision: to combine the calming\, creative process of bonsai cultivation with a fun\, educational experience that brings people together across generations. \nWelcome to Bonsai Bar. Let’s grow something extraordinary together.
URL:https://parkavekitchenbydb.com/event/16-6-bonsai-bar-in-the-cafe-at-park-ave-kitchen/
LOCATION:Park Ave Kitchen by David Burke\, 514 Lexington Avenue\, New York\, 10017\, United States
CATEGORIES:PopUp
ATTACH;FMTTYPE=image/jpeg:https://parkavekitchenbydb.com/wp-content/uploads/2025/11/ParkAve_1350p-bonsaireweb-dec-6-1.jpg
END:VEVENT
BEGIN:VEVENT
DTSTART;TZID=America/New_York:20251207T110000
DTEND;TZID=America/New_York:20251207T140000
DTSTAMP:20260423T030812
CREATED:20251124T174251Z
LAST-MODIFIED:20251124T182851Z
UID:3495-1765105200-1765116000@parkavekitchenbydb.com
SUMMARY:12/7 SANTA BRUNCH at Park Ave Kitchen by David Burke
DESCRIPTION:UPSCALE BUFFET BRUNCH\nPHOTOS with SANTA\n$50 per ADULT / $20 per CHILD\nRESERVATIONS REQUIRED \nRESERVATIONS
URL:https://parkavekitchenbydb.com/event/santa-brunch/
LOCATION:Park Ave Kitchen by David Burke\, 514 Lexington Avenue\, New York\, 10017\, United States
CATEGORIES:PopUp,special
ATTACH;FMTTYPE=image/jpeg:https://parkavekitchenbydb.com/wp-content/uploads/2025/11/santa-brunch-pak-v2.jpg
END:VEVENT
BEGIN:VEVENT
DTSTART;TZID=America/New_York:20260112T103000
DTEND;TZID=America/New_York:20260116T200000
DTSTAMP:20260423T030812
CREATED:20260109T191807Z
LAST-MODIFIED:20260109T191903Z
UID:3695-1768213800-1768593600@parkavekitchenbydb.com
SUMMARY:National Pastrami Day Special
DESCRIPTION:$14.95 PASTRAMI SANDWICH & CHIPS\nWith a 12oz Soft Drink
URL:https://parkavekitchenbydb.com/event/national-pastrami-day-special/
LOCATION:Park Ave Kitchen by David Burke\, 514 Lexington Avenue\, New York\, 10017\, United States
CATEGORIES:PopUp,special
ATTACH;FMTTYPE=image/jpeg:https://parkavekitchenbydb.com/wp-content/uploads/2026/01/natl-pastrami-day5x7.jpg
END:VEVENT
BEGIN:VEVENT
DTSTART;TZID=America/New_York:20260129T170000
DTEND;TZID=America/New_York:20260129T200000
DTSTAMP:20260423T030812
CREATED:20260126T200731Z
LAST-MODIFIED:20260126T201249Z
UID:3742-1769706000-1769716800@parkavekitchenbydb.com
SUMMARY:1/29 Sushi Night
DESCRIPTION:$40 SUSHI SPECIAL\nThursday\, Jan 29\nin the Café\n5pm – 8pm\nHouse Roll 5pc\nMango Salmon Roll 5pc \nNIGIRI & SASHIMI \nTuna 1pc /  Tuna 1 pc\nSalmon 1pc / Salmon 1 pc\nYellowtail 1pc / Yellowtail 1pc \nComplimentary Sake Tasting\ncups and bottles available for sale \n\n1030am-8pm (M-F)\nSUSHI CHEF ON SITE\nWe Deliver Sushi to Your Office \n 
URL:https://parkavekitchenbydb.com/event/1-29-sushi-night/
LOCATION:Park Ave Kitchen by David Burke\, 514 Lexington Avenue\, New York\, 10017\, United States
CATEGORIES:Omakase,PopUp
ATTACH;FMTTYPE=image/jpeg:https://parkavekitchenbydb.com/wp-content/uploads/2026/01/sushi4-night-pak.jpg
END:VEVENT
BEGIN:VEVENT
DTSTART;TZID=America/New_York:20260217T113000
DTEND;TZID=America/New_York:20260217T133000
DTSTAMP:20260423T030812
CREATED:20260216T220645Z
LAST-MODIFIED:20260216T220811Z
UID:3740-1771327800-1771335000@parkavekitchenbydb.com
SUMMARY:2/17 Fat Tuesday in the Amenity Center
DESCRIPTION:Celebrate Fat Tuesday with Chef David Burke  \nTuesday\, February 17th \nJoin us 11:30 – 1:30 in the Amenity Center \nFeaturing Bananas Foster and revelry\, mon cheri! \nFor 277 Park Tenants.
URL:https://parkavekitchenbydb.com/event/2-17-fat-tuesday-in-the-amenity-center/
LOCATION:Park Ave Kitchen by David Burke\, 514 Lexington Avenue\, New York\, 10017\, United States
CATEGORIES:277 Park Amenity,PopUp
ATTACH;FMTTYPE=image/jpeg:https://parkavekitchenbydb.com/wp-content/uploads/2026/02/mardi-gras-popupweb.jpg
END:VEVENT
BEGIN:VEVENT
DTSTART;TZID=America/New_York:20260220T163000
DTEND;TZID=America/New_York:20260220T170000
DTSTAMP:20260423T030812
CREATED:20260218T153303Z
LAST-MODIFIED:20260218T153716Z
UID:3738-1771605000-1771606800@parkavekitchenbydb.com
SUMMARY:2/20 National Cherry Pie Day Pie Eating Contest
DESCRIPTION:277 Park Tenants. please join us at 4:30 pm in the Café to compete in Chef Burke’s Park Ave Kitchen Cherry Pie Eating Contest. \n1st Prize $250 Gift Card to Park Ave Kitchen + FREE ONE MONTH COFFEE CLUB Subscription \nCONTESTANTS REGISTER IN THE CAFÉ TO COMPETE\nFREE LUNCH in the CAFÉ for the first 10 Tenants who sign up \n 
URL:https://parkavekitchenbydb.com/event/2-20-national-cherry-pie-day-pie-eating-contest/
LOCATION:Park Ave Kitchen by David Burke\, 514 Lexington Avenue\, New York\, 10017\, United States
CATEGORIES:277 Tenant,Eating Competition
ATTACH;FMTTYPE=image/jpeg:https://parkavekitchenbydb.com/wp-content/uploads/2026/02/cherry-pie-eating-contest-2-20-soc2.jpg
END:VEVENT
BEGIN:VEVENT
DTSTART;TZID=America/New_York:20260401T160000
DTEND;TZID=America/New_York:20260401T170000
DTSTAMP:20260423T030812
CREATED:20260313T221811Z
LAST-MODIFIED:20260313T221916Z
UID:3946-1775059200-1775062800@parkavekitchenbydb.com
SUMMARY:4/1 Mystery Box Eating Contest
DESCRIPTION:4/1 Mystery Box Eating Contest for 277 Park Tenants only. Prizes for all participants! \nSAVE THE DATE. \nSign up will be open soon.
URL:https://parkavekitchenbydb.com/event/4-1-mystery-box-eating-contest/
LOCATION:Park Ave Kitchen by David Burke\, 514 Lexington Avenue\, New York\, 10017\, United States
CATEGORIES:277 Tenant,Eating Competition
END:VEVENT
BEGIN:VEVENT
DTSTART;TZID=America/New_York:20260416T193000
DTEND;TZID=America/New_York:20260416T220000
DTSTAMP:20260423T030812
CREATED:20260325T225951Z
LAST-MODIFIED:20260402T165007Z
UID:3974-1776367800-1776376800@parkavekitchenbydb.com
SUMMARY:4/16 Flavors of Italy Wine Dinner
DESCRIPTION:5-Course Chef’s Menu paired with Six Wines from Italy
URL:https://parkavekitchenbydb.com/event/4-16-italian-wine-dinner/
LOCATION:Park Ave Kitchen by David Burke\, 514 Lexington Avenue\, New York\, 10017\, United States
CATEGORIES:wine Dinner
ATTACH;FMTTYPE=image/jpeg:https://parkavekitchenbydb.com/wp-content/uploads/2026/03/italian-wine-dinner-apr-16-pak-1080.jpg
END:VEVENT
END:VCALENDAR