BEGIN:VCALENDAR
VERSION:2.0
PRODID:-//Park Ave Kitchen by David Burke - ECPv6.15.18//NONSGML v1.0//EN
CALSCALE:GREGORIAN
METHOD:PUBLISH
X-WR-CALNAME:Park Ave Kitchen by David Burke
X-ORIGINAL-URL:https://parkavekitchenbydb.com
X-WR-CALDESC:Events for Park Ave Kitchen by David Burke
REFRESH-INTERVAL;VALUE=DURATION:PT1H
X-Robots-Tag:noindex
X-PUBLISHED-TTL:PT1H
BEGIN:VTIMEZONE
TZID:America/New_York
BEGIN:DAYLIGHT
TZOFFSETFROM:-0500
TZOFFSETTO:-0400
TZNAME:EDT
DTSTART:20240310T070000
END:DAYLIGHT
BEGIN:STANDARD
TZOFFSETFROM:-0400
TZOFFSETTO:-0500
TZNAME:EST
DTSTART:20241103T060000
END:STANDARD
BEGIN:DAYLIGHT
TZOFFSETFROM:-0500
TZOFFSETTO:-0400
TZNAME:EDT
DTSTART:20250309T070000
END:DAYLIGHT
BEGIN:STANDARD
TZOFFSETFROM:-0400
TZOFFSETTO:-0500
TZNAME:EST
DTSTART:20251102T060000
END:STANDARD
BEGIN:DAYLIGHT
TZOFFSETFROM:-0500
TZOFFSETTO:-0400
TZNAME:EDT
DTSTART:20260308T070000
END:DAYLIGHT
BEGIN:STANDARD
TZOFFSETFROM:-0400
TZOFFSETTO:-0500
TZNAME:EST
DTSTART:20261101T060000
END:STANDARD
END:VTIMEZONE
BEGIN:VEVENT
DTSTART;TZID=America/New_York:20251101T130000
DTEND;TZID=America/New_York:20251101T150000
DTSTAMP:20260422T195204
CREATED:20251007T145642Z
LAST-MODIFIED:20251009T201355Z
UID:3035-1762002000-1762009200@parkavekitchenbydb.com
SUMMARY:11/1 BONSAI BAR in The Café at Park Ave Kitchen
DESCRIPTION:LEARN TO BONSAI!\nand have a brunchy Saturday afternoon of fun and drinks in the Café\nPURCHASE TICKETS HERE \nNov 1 – DWARF JADE\nABOUT THE EVENT\n\nBeginner workshops are perfect for you to grab your friends\, grab a drink and come make tiny trees! We’re bringing the awesome art of bonsai out of the hedged in gardens and into the streets! Or at least into your favorite bars/breweries/pubs. Bonsai Bar is a night of fun you don’t want to miss. Learn the fundamental skills and techniques behind the art of bonsai while enjoying a night out with friends! Our teachers will introduce core concepts and guide your experience as you pot\, prune\, and design your very own bonsai tree!\n\nNOTICE\nPlease arrive at least 15 MINUTES BEFORE your event to ensure your group can sit together\, ORDER FOOD AND DRINK\, and pick your FAVORITE TREE  \n\nNATURE IS HEALING. NATURE IS POWERFUL.\nNATURE IS… TINY TREES IN A BAR? \nBonsai Bar was founded with a simple yet powerful vision: to combine the calming\, creative process of bonsai cultivation with a fun\, educational experience that brings people together across generations. \nWelcome to Bonsai Bar. Let’s grow something extraordinary together.
URL:https://parkavekitchenbydb.com/event/11-1-bonsai-bar-in-the-cafe-at-park-ave-kitchen/
LOCATION:Park Ave Kitchen by David Burke\, 514 Lexington Avenue\, New York\, 10017\, United States
CATEGORIES:PopUp
ATTACH;FMTTYPE=image/jpeg:https://parkavekitchenbydb.com/wp-content/uploads/2025/10/ParkAve_1350p-bonsaireweb.jpg
END:VEVENT
BEGIN:VEVENT
DTSTART;TZID=America/New_York:20251108T203000
DTEND;TZID=America/New_York:20251108T230000
DTSTAMP:20260422T195204
CREATED:20251001T214746Z
LAST-MODIFIED:20251108T194639Z
UID:3016-1762633800-1762642800@parkavekitchenbydb.com
SUMMARY:11/8 PAK Comedy Saturday 3-Course Dinner & A Show featuring Lana Siebel
DESCRIPTION:Comedy Saturday\n3-Course Dinner & A Show\nPresenting \nLana Siebel & Keith Robinson\nat Park Ave Kitchen by David Burke\nin the Main Dining Room \nSaturday\, November 8\nDoors at 8:30pm\nOpen Seating\, 1st Come\, 1st Seated\n$95 per person food and show\n(tax\, gratuity and alcohol not included) \nLana Siebel\nLana Siebel is a national headlining comedian from New York. Her Dry Bar Comedy Special titled “Age Appropriate” is out now! Catch it on the Dry Bar Comedy + app & soon to be released on Samsung TV and YouTube! \nLana was part of the New York Comedy Festival in 2023 and 2024 and has performed at the legendary Comedy Store\, Laugh Factory\, Comedy Cellar\, Stand Up NY\, Caroline’s\, Punch Line and regularly headlines at Catch a Rising Star. Lana is also a regular performer on Don’t Tell Comedy. She’s been mentioned several times in TimeOut NY and can be seen in “The Businessman” currently streaming on Amazon Prime. \nKeith Robinson\nKeith Robinson has recently released his Netflix Special titled “Different Strokes”. The Special was produced by Amy Schumer. He has several comedy specials out on Comedy Central. Keith has had numerous TV appearances including The Tonight show\, Late Night with Conan O’Brien\, Tough Crowd  with Colin Quinn\, The Wanda Sykes Show\, The Chelsea Lately Show on E! He’s written for The Chappell Show. \nSome of his film credits include “Trainwreck”\, Kevin Hart’s “Laugh at My Pain”\, “King of Staten Island” and many other films. He is a regular at The Comedy Cellar and he’s one of the best working comedians of our times. \n\nMenu ingredients subject to change due to availability
URL:https://parkavekitchenbydb.com/event/11-8-pak-comedy-saturday-3-course-dinner-a-show-featuring-lana-siebel/
LOCATION:Park Ave Kitchen by David Burke\, 514 Lexington Avenue\, New York\, 10017\, United States
CATEGORIES:comedy supper club,PopUp
ATTACH;FMTTYPE=image/jpeg:https://parkavekitchenbydb.com/wp-content/uploads/2025/10/pak-comedy-supper-club-11-8a2.jpg
END:VEVENT
BEGIN:VEVENT
DTSTART;TZID=America/New_York:20251119T160000
DTEND;TZID=America/New_York:20251119T170000
DTSTAMP:20260422T195204
CREATED:20251111T152549Z
LAST-MODIFIED:20251112T161825Z
UID:3465-1763568000-1763571600@parkavekitchenbydb.com
SUMMARY:11/19 Thanksgiving Turkey Eating Contest & Cooking Tutorial
DESCRIPTION:Exclusive To 277 PARK Tenants Only \n\nThanksgiving Turkey Eating Contest\n(Contestants visit us to sign up in the Cafe – we’ll buy you lunch – limited to first 12 contestants)\nOfficial Turkey Roasting Tutorial\nCarving Demonstration\nEach Contestant Takes Home A Prize\nWinner Gets A Turkey Dinner For 4 Guests!\nHang Out After the Contest – Beverage Menu Available For Happy Hour !
URL:https://parkavekitchenbydb.com/event/11-19-thanksgiving-turkey-eating-contest-cooking-tutorial/
LOCATION:Park Ave Kitchen by David Burke\, 514 Lexington Avenue\, New York\, 10017\, United States
CATEGORIES:277 Tenant,Eating Competition,PopUp
END:VEVENT
END:VCALENDAR